﻿BEGIN:VCALENDAR
VERSION:2.0
PRODID:-//ILFAC - ECPv4.2.7//NONSGML v1.0//EN
CALSCALE:GREGORIAN
METHOD:PUBLISH
X-WR-CALNAME:ILFAC
X-ORIGINAL-URL:https://www.ilfac.be
X-WR-CALDESC:Events for ILFAC
BEGIN:VEVENT
DTSTART;TZID=Europe/Brussels:20151119T143000
DTEND;TZID=Europe/Brussels:20151119T170000
DTSTAMP:20260421T082028
CREATED:20151205T235709
LAST-MODIFIED:20151217T011536
UID:2305-1447943400-1447952400@www.ilfac.be
SUMMARY:Sophie Cauvin
DESCRIPTION:Un cheminement à travers des paysages abstraits et inhabités.\nEntre esprit et matière\, impétuosité et méditation\, à mi-chemin entre art brut et conceptualisme\, l’œuvre singulière de Sophie Cauvin joue d’équilibres subtils et habiles. Explorant inlassablement les liens énigmatiques de l’expérience intime et du macrocosme\, c’est une œuvre tout en puissance et en élégance qui se donne à découvrir au Musée d’Ixelles.\n\nLa peinture de Sophie Cauvin ne laisse pas indifférent. Au contraire\, elle force la contemplation\, suscite des questions. Il y a la lourdeur du matériau. Il y a le caractère explicitement "archéologique" de son puissant langage pictural. Et il y a les textes mystérieux et estompés\, enfouis dans la matière. Tous ces éléments renvoient le regard et l’esprit aux sens énigmatiques et cachés de son œuvre. Pourtant\, cette artiste ne livre pas si facilement ses secrets. Ses peintures sont trop solides et durables pour cela. Nous ne pouvons pas percevoir les choses car elles sont masquées par la façade sublime de la maîtrise.\n\nNous aurons la chance d’être guidés par l’artiste elle-même! Après nous avoir reçus dans son atelier\, il nous semblait que voir l’aboutissement de son travail en sa compagnie était impératif.
URL:https://www.ilfac.be/evenements/2305/
LOCATION:Bruxelles\, 1050\, Belgique
CATEGORIES:Expositions
ATTACH;FMTTYPE=image/jpeg:https://www.ilfac.be/wp-content/uploads/2015/12/ilfac_event_sophie_featured.jpg
ORGANIZER;CN="V%C3%A9ronique%20Halpouter":MAILTO:veronique.halpouter@ilfac.be
END:VEVENT
END:VCALENDAR